View In:
ArcGIS JavaScript
ArcGIS Online Map Viewer
ArcGIS Earth
Service Description: Watauga County Orthos 2022 - RGB
Name: gisviewer/Watauga2022_RGB
Description: Watauga County Orthos 2022 - RGB
Single Fused Map Cache: false
Extent:
XMin: 1099999.3634720608
YMin: 830000.2949410297
XMax: 1314999.6134720608
YMax: 1010000.5449410297
Spatial Reference: 103122
(6543)
LatestVCSWkid(0)
Initial Extent:
XMin: 1099999.3634720608
YMin: 830000.2949410297
XMax: 1314999.6134720608
YMax: 1010000.5449410297
Spatial Reference: 103122
(6543)
LatestVCSWkid(0)
Full Extent:
XMin: 1099999.3634720608
YMin: 830000.2949410297
XMax: 1314999.6134720608
YMax: 1010000.5449410297
Spatial Reference: 103122
(6543)
LatestVCSWkid(0)
Pixel Size X: 0.25
Pixel Size Y: 0.25
Band Count: 4
Pixel Type: U8
RasterFunction Infos: {"rasterFunctionInfos": [
{
"name": "WataugaBoone_7mile_Raster Function Template",
"description": "WataugaBoone_7mile_RGB Stretch = None ",
"help": ""
},
{
"name": "None",
"description": "",
"help": ""
}
]}
Mensuration Capabilities: Basic
Inspection Capabilities:
Has Histograms: true
Has Colormap: false
Has Multi Dimensions : false
Rendering Rule:
Min Scale: 0
Max Scale: 0
Resampling: false
Copyright Text: BooneNC GIS, NCCGIA
Service Data Type: esriImageServiceDataTypeGeneric
Min Values: 13, 18, 11, 255
Max Values: 200, 188, 181, 255
Mean Values: 83.86158008658, 80.914069264069, 67.519588744589, 255
Standard Deviation Values: 26.902425020102, 23.324725772425, 18.420880463765, 0
Object ID Field:
Fields:
None
Default Mosaic Method: Center
Allowed Mosaic Methods:
SortField:
SortValue: null
Mosaic Operator: First
Default Compression Quality: 75
Default Resampling Method: Bilinear
Max Record Count: null
Max Image Height: 4100
Max Image Width: 15000
Max Download Image Count: null
Max Mosaic Image Count: null
Allow Raster Function: true
Allow Copy: false
Allow Analysis: false
Allow Compute TiePoints: false
Supports Statistics: false
Supports Advanced Queries: false
Use StandardizedQueries: true
Raster Type Infos:
Name: Raster Dataset
Description: Supports all ArcGIS Raster Datasets
Help:
Has Raster Attribute Table: false
Edit Fields Info: null
Ownership Based AccessControl For Rasters: null
Child Resources:
Info
Histograms
Statistics
Key Properties
Legend
Raster Function Infos
Supported Operations:
Export Image
Identify
Measure
Compute Histograms
Compute Statistics Histograms
Get Samples
Compute Class Statistics
Query Boundary
Compute Pixel Location
Compute Angles
Validate
Project