View In:
ArcGIS JavaScript
ArcGIS Online Map Viewer
ArcGIS Earth
Service Description: BOONE_RASTER_2010
Name: gisviewer/BOONE_RASTER_2010
Description: BOONE_RASTER_2010
Single Fused Map Cache: false
Extent:
XMin: 1135000.0
YMin: 870000.0
XMax: 1275000.0
YMax: 975000.0
Spatial Reference: 3359
(3404)
LatestVCSWkid(0)
Initial Extent:
XMin: 1135000.0
YMin: 870000.0
XMax: 1275000.0
YMax: 975000.0
Spatial Reference: 3359
(3404)
LatestVCSWkid(0)
Full Extent:
XMin: 1135000.0
YMin: 870000.0
XMax: 1275000.0
YMax: 975000.0
Spatial Reference: 3359
(3404)
LatestVCSWkid(0)
Pixel Size X: 0.5
Pixel Size Y: 0.5
Band Count: 3
Pixel Type: U8
RasterFunction Infos: {"rasterFunctionInfos": [{
"name": "None",
"description": "",
"help": ""
}]}
Mensuration Capabilities: Basic
Inspection Capabilities:
Has Histograms: true
Has Colormap: false
Has Multi Dimensions : false
Rendering Rule:
Min Scale: 0
Max Scale: 0
Copyright Text: BooneNC GIS
Service Data Type: esriImageServiceDataTypeRGB
Min Values: 0, 0, 0
Max Values: 255, 255, 255
Mean Values: 87.1359030340851, 92.19966946625532, 81.87882903029788
Standard Deviation Values: 33.96537214478437, 33.74213592046226, 32.53808590529546
Object ID Field:
Fields:
None
Default Mosaic Method: Center
Allowed Mosaic Methods:
SortField:
SortValue: null
Mosaic Operator: First
Default Compression Quality: 75
Default Resampling Method: Bilinear
Max Record Count: null
Max Image Height: 4100
Max Image Width: 15000
Max Download Image Count: null
Max Mosaic Image Count: null
Allow Raster Function: true
Allow Copy: true
Allow Analysis: true
Allow Compute TiePoints: false
Supports Statistics: false
Supports Advanced Queries: false
Use StandardizedQueries: true
Raster Type Infos:
Name: Raster Dataset
Description: Supports all ArcGIS Raster Datasets
Help:
Has Raster Attribute Table: false
Edit Fields Info: null
Ownership Based AccessControl For Rasters: null
Child Resources:
Info
Histograms
Statistics
Key Properties
Legend
Raster Function Infos
Supported Operations:
Export Image
Identify
Measure
Compute Histograms
Compute Statistics Histograms
Get Samples
Compute Class Statistics
Query Boundary
Compute Pixel Location
Compute Angles
Validate
Project